BEGIN:VCALENDAR
VERSION:2.0
PRODID:-//Südthüringer Schützenvereinigung e.V. - ECPv6.15.20//NONSGML v1.0//EN
CALSCALE:GREGORIAN
METHOD:PUBLISH
X-WR-CALNAME:Südthüringer Schützenvereinigung e.V.
X-ORIGINAL-URL:https://ssv-suhl.org
X-WR-CALDESC:Veranstaltungen für Südthüringer Schützenvereinigung e.V.
REFRESH-INTERVAL;VALUE=DURATION:PT1H
X-Robots-Tag:noindex
X-PUBLISHED-TTL:PT1H
BEGIN:VTIMEZONE
TZID:Europe/Berlin
BEGIN:DAYLIGHT
TZOFFSETFROM:+0100
TZOFFSETTO:+0200
TZNAME:CEST
DTSTART:20220327T010000
END:DAYLIGHT
BEGIN:STANDARD
TZOFFSETFROM:+0200
TZOFFSETTO:+0100
TZNAME:CET
DTSTART:20221030T010000
END:STANDARD
BEGIN:DAYLIGHT
TZOFFSETFROM:+0100
TZOFFSETTO:+0200
TZNAME:CEST
DTSTART:20230326T010000
END:DAYLIGHT
BEGIN:STANDARD
TZOFFSETFROM:+0200
TZOFFSETTO:+0100
TZNAME:CET
DTSTART:20231029T010000
END:STANDARD
BEGIN:DAYLIGHT
TZOFFSETFROM:+0100
TZOFFSETTO:+0200
TZNAME:CEST
DTSTART:20240331T010000
END:DAYLIGHT
BEGIN:STANDARD
TZOFFSETFROM:+0200
TZOFFSETTO:+0100
TZNAME:CET
DTSTART:20241027T010000
END:STANDARD
END:VTIMEZONE
BEGIN:VEVENT
DTSTART;TZID=Europe/Berlin:20230124T080000
DTEND;TZID=Europe/Berlin:20230124T170000
DTSTAMP:20260423T155117
CREATED:20230124T070008Z
LAST-MODIFIED:20230124T070008Z
UID:4179-1674547200-1674579600@ssv-suhl.org
SUMMARY:Südthüringer Rangliste 2023 – 3. Wettkampf
DESCRIPTION:Ergebnisse der 2. Südthüringer-Rangliste 2023 und Vorausschreibung 3. Wettkampf \n \nDas Startgeld beträgt je Wettkampf 5\,00 € zuzüglich einer einmaligen Einschreibgebühr von ebenfalls 10\,00 € und ist vor Wettkampfbeginn zu entrichten.
URL:https://ssv-suhl.org/event/suedthueringer-rangliste-2023-3-wettkampf/
END:VEVENT
END:VCALENDAR