BEGIN:VCALENDAR
VERSION:2.0
PRODID:-//Südthüringer Schützenvereinigung e.V. - ECPv6.15.20//NONSGML v1.0//EN
CALSCALE:GREGORIAN
METHOD:PUBLISH
X-ORIGINAL-URL:https://ssv-suhl.org
X-WR-CALDESC:Veranstaltungen für Südthüringer Schützenvereinigung e.V.
REFRESH-INTERVAL;VALUE=DURATION:PT1H
X-Robots-Tag:noindex
X-PUBLISHED-TTL:PT1H
BEGIN:VTIMEZONE
TZID:Europe/Berlin
BEGIN:DAYLIGHT
TZOFFSETFROM:+0100
TZOFFSETTO:+0200
TZNAME:CEST
DTSTART:20210328T010000
END:DAYLIGHT
BEGIN:STANDARD
TZOFFSETFROM:+0200
TZOFFSETTO:+0100
TZNAME:CET
DTSTART:20211031T010000
END:STANDARD
BEGIN:DAYLIGHT
TZOFFSETFROM:+0100
TZOFFSETTO:+0200
TZNAME:CEST
DTSTART:20220327T010000
END:DAYLIGHT
BEGIN:STANDARD
TZOFFSETFROM:+0200
TZOFFSETTO:+0100
TZNAME:CET
DTSTART:20221030T010000
END:STANDARD
BEGIN:DAYLIGHT
TZOFFSETFROM:+0100
TZOFFSETTO:+0200
TZNAME:CEST
DTSTART:20230326T010000
END:DAYLIGHT
BEGIN:STANDARD
TZOFFSETFROM:+0200
TZOFFSETTO:+0100
TZNAME:CET
DTSTART:20231029T010000
END:STANDARD
END:VTIMEZONE
BEGIN:VEVENT
DTSTART;TZID=Europe/Berlin:20221125T080000
DTEND;TZID=Europe/Berlin:20221127T170000
DTSTAMP:20260423T123603
CREATED:20221025T181025Z
LAST-MODIFIED:20221025T181126Z
UID:4050-1669363200-1669568400@ssv-suhl.org
SUMMARY:Südthüringer Rangliste 2023 – 1. Wettkampf
DESCRIPTION:1.Wettkampf Südthüringen-Rangliste 2022/23 \n \nDas Startgeld beträgt je Wettkampf 5\,00 € zuzüglich einer einmaligen Einschreibgebühr von ebenfalls 10\,00 € und ist vor Wettkampfbeginn zu entrichten.
URL:https://ssv-suhl.org/event/suedthueringer-rangliste-2023-1-wettkampf/
LOCATION:SSZ Suhl-Friedberg\, Schützenstraße 6\, 98527\, Thüringen\, 98527\, Deutschland
CATEGORIES:Wettkämpfe
END:VEVENT
END:VCALENDAR