BEGIN:VCALENDAR
VERSION:2.0
PRODID:-//Südthüringer Schützenvereinigung e.V. - ECPv6.15.20//NONSGML v1.0//EN
CALSCALE:GREGORIAN
METHOD:PUBLISH
X-ORIGINAL-URL:https://ssv-suhl.org
X-WR-CALDESC:Veranstaltungen für Südthüringer Schützenvereinigung e.V.
REFRESH-INTERVAL;VALUE=DURATION:PT1H
X-Robots-Tag:noindex
X-PUBLISHED-TTL:PT1H
BEGIN:VTIMEZONE
TZID:Europe/Berlin
BEGIN:DAYLIGHT
TZOFFSETFROM:+0100
TZOFFSETTO:+0200
TZNAME:CEST
DTSTART:20200329T010000
END:DAYLIGHT
BEGIN:STANDARD
TZOFFSETFROM:+0200
TZOFFSETTO:+0100
TZNAME:CET
DTSTART:20201025T010000
END:STANDARD
BEGIN:DAYLIGHT
TZOFFSETFROM:+0100
TZOFFSETTO:+0200
TZNAME:CEST
DTSTART:20210328T010000
END:DAYLIGHT
BEGIN:STANDARD
TZOFFSETFROM:+0200
TZOFFSETTO:+0100
TZNAME:CET
DTSTART:20211031T010000
END:STANDARD
BEGIN:DAYLIGHT
TZOFFSETFROM:+0100
TZOFFSETTO:+0200
TZNAME:CEST
DTSTART:20220327T010000
END:DAYLIGHT
BEGIN:STANDARD
TZOFFSETFROM:+0200
TZOFFSETTO:+0100
TZNAME:CET
DTSTART:20221030T010000
END:STANDARD
END:VTIMEZONE
BEGIN:VEVENT
DTSTART;VALUE=DATE:20210416
DTEND;VALUE=DATE:20210418
DTSTAMP:20260424T004546
CREATED:20201011T092022Z
LAST-MODIFIED:20201011T092022Z
UID:2970-1618531200-1618703999@ssv-suhl.org
SUMMARY:Südthüringer Rangliste 2021 – 5. Wettkampf + Siegerehrung
DESCRIPTION:Das Startgeld beträgt je Wettkampf 5\,00 € zuzüglich einer einmaligen Einschreibgebühr von ebenfalls 5\,00 € und ist vor Wettkampfbeginn zu entrichten.
URL:https://ssv-suhl.org/event/suedthueringer-rangliste-2021-5-wettkampf-siegerehrung/
LOCATION:SSZ Suhl-Friedberg\, Schützenstraße 6\, 98527\, Thüringen\, 98527\, Deutschland
CATEGORIES:Wettkämpfe
END:VEVENT
END:VCALENDAR