BEGIN:VCALENDAR
VERSION:2.0
PRODID:-//Südthüringer Schützenvereinigung e.V. - ECPv6.15.20//NONSGML v1.0//EN
CALSCALE:GREGORIAN
METHOD:PUBLISH
X-ORIGINAL-URL:https://ssv-suhl.org
X-WR-CALDESC:Veranstaltungen für Südthüringer Schützenvereinigung e.V.
REFRESH-INTERVAL;VALUE=DURATION:PT1H
X-Robots-Tag:noindex
X-PUBLISHED-TTL:PT1H
BEGIN:VTIMEZONE
TZID:Europe/Berlin
BEGIN:DAYLIGHT
TZOFFSETFROM:+0100
TZOFFSETTO:+0200
TZNAME:CEST
DTSTART:20190331T010000
END:DAYLIGHT
BEGIN:STANDARD
TZOFFSETFROM:+0200
TZOFFSETTO:+0100
TZNAME:CET
DTSTART:20191027T010000
END:STANDARD
BEGIN:DAYLIGHT
TZOFFSETFROM:+0100
TZOFFSETTO:+0200
TZNAME:CEST
DTSTART:20200329T010000
END:DAYLIGHT
BEGIN:STANDARD
TZOFFSETFROM:+0200
TZOFFSETTO:+0100
TZNAME:CET
DTSTART:20201025T010000
END:STANDARD
BEGIN:DAYLIGHT
TZOFFSETFROM:+0100
TZOFFSETTO:+0200
TZNAME:CEST
DTSTART:20210328T010000
END:DAYLIGHT
BEGIN:STANDARD
TZOFFSETFROM:+0200
TZOFFSETTO:+0100
TZNAME:CET
DTSTART:20211031T010000
END:STANDARD
END:VTIMEZONE
BEGIN:VEVENT
DTSTART;VALUE=DATE:20201120
DTEND;VALUE=DATE:20201122
DTSTAMP:20260424T111114
CREATED:20201011T090825Z
LAST-MODIFIED:20201105T063208Z
UID:2962-1605830400-1606003199@ssv-suhl.org
SUMMARY:ABGESAGT - Südthüringer Rangliste 2021 – 1. Wettkampf
DESCRIPTION:Das Startgeld beträgt je Wettkampf 5\,00 € zuzüglich einer einmaligen Einschreibgebühr von ebenfalls 5\,00 € und ist vor Wettkampfbeginn zu entrichten.
URL:https://ssv-suhl.org/event/suedthueringer-rangliste-2021-1-wettkampf/
LOCATION:SSZ Suhl-Friedberg\, Schützenstraße 6\, 98527\, Thüringen\, 98527\, Deutschland
CATEGORIES:Wettkämpfe
END:VEVENT
END:VCALENDAR